BEGIN:VCALENDAR
VERSION:2.0
PRODID:-//Augsburger Domsingknaben - ECPv6.15.20//NONSGML v1.0//EN
CALSCALE:GREGORIAN
METHOD:PUBLISH
X-ORIGINAL-URL:https://augsburger-domsingknaben.de
X-WR-CALDESC:Veranstaltungen für Augsburger Domsingknaben
REFRESH-INTERVAL;VALUE=DURATION:PT1H
X-Robots-Tag:noindex
X-PUBLISHED-TTL:PT1H
BEGIN:VTIMEZONE
TZID:Europe/Berlin
BEGIN:DAYLIGHT
TZOFFSETFROM:+0100
TZOFFSETTO:+0200
TZNAME:CEST
DTSTART:20230326T010000
END:DAYLIGHT
BEGIN:STANDARD
TZOFFSETFROM:+0200
TZOFFSETTO:+0100
TZNAME:CET
DTSTART:20231029T010000
END:STANDARD
BEGIN:DAYLIGHT
TZOFFSETFROM:+0100
TZOFFSETTO:+0200
TZNAME:CEST
DTSTART:20240331T010000
END:DAYLIGHT
BEGIN:STANDARD
TZOFFSETFROM:+0200
TZOFFSETTO:+0100
TZNAME:CET
DTSTART:20241027T010000
END:STANDARD
BEGIN:DAYLIGHT
TZOFFSETFROM:+0100
TZOFFSETTO:+0200
TZNAME:CEST
DTSTART:20250330T010000
END:DAYLIGHT
BEGIN:STANDARD
TZOFFSETFROM:+0200
TZOFFSETTO:+0100
TZNAME:CET
DTSTART:20251026T010000
END:STANDARD
END:VTIMEZONE
BEGIN:VEVENT
DTSTART;TZID=Europe/Berlin:20240219T183000
DTEND;TZID=Europe/Berlin:20240219T183000
DTSTAMP:20260423T115324
CREATED:20231211T103431Z
LAST-MODIFIED:20231211T103431Z
UID:11198-1708367400-1708367400@augsburger-domsingknaben.de
SUMMARY:Eröffnungsgottesdienst zur Frühjahrs-Vollversammlung der Deutschen Bischofskonferenz
DESCRIPTION:KAMMERCHOR \nMotetten und Gesänge aus dem Gotteslob
URL:https://augsburger-domsingknaben.de/veranstaltung/eroeffnungsgottesdienst-zur-fruehjahrs-vollversammlung-der-deutschen-bischofskonferenz
LOCATION:Hoher Dom zu Augsburg\, Frauentorstraße 1\, Augsburg\, Bayern\, 86152\, Deutschland
CATEGORIES:Gottesdienst
ATTACH;FMTTYPE=image/jpeg:https://augsburger-domsingknaben.de/wp-content/uploads/20210325_Britten_KMC_Chorsicht-incl.-Bischof_sum-scaled.jpg
END:VEVENT
END:VCALENDAR