BEGIN:VCALENDAR
VERSION:2.0
PRODID:-//Augsburger Domsingknaben - ECPv6.15.20//NONSGML v1.0//EN
CALSCALE:GREGORIAN
METHOD:PUBLISH
X-WR-CALNAME:Augsburger Domsingknaben
X-ORIGINAL-URL:https://augsburger-domsingknaben.de
X-WR-CALDESC:Veranstaltungen für Augsburger Domsingknaben
REFRESH-INTERVAL;VALUE=DURATION:PT1H
X-Robots-Tag:noindex
X-PUBLISHED-TTL:PT1H
BEGIN:VTIMEZONE
TZID:Europe/Berlin
BEGIN:DAYLIGHT
TZOFFSETFROM:+0100
TZOFFSETTO:+0200
TZNAME:CEST
DTSTART:20250330T010000
END:DAYLIGHT
BEGIN:STANDARD
TZOFFSETFROM:+0200
TZOFFSETTO:+0100
TZNAME:CET
DTSTART:20251026T010000
END:STANDARD
BEGIN:DAYLIGHT
TZOFFSETFROM:+0100
TZOFFSETTO:+0200
TZNAME:CEST
DTSTART:20260329T010000
END:DAYLIGHT
BEGIN:STANDARD
TZOFFSETFROM:+0200
TZOFFSETTO:+0100
TZNAME:CET
DTSTART:20261025T010000
END:STANDARD
BEGIN:DAYLIGHT
TZOFFSETFROM:+0100
TZOFFSETTO:+0200
TZNAME:CEST
DTSTART:20270328T010000
END:DAYLIGHT
BEGIN:STANDARD
TZOFFSETFROM:+0200
TZOFFSETTO:+0100
TZNAME:CET
DTSTART:20271031T010000
END:STANDARD
END:VTIMEZONE
BEGIN:VEVENT
DTSTART;TZID=Europe/Berlin:20260403T150000
DTEND;TZID=Europe/Berlin:20260403T150000
DTSTAMP:20260420T183841
CREATED:20260116T113455Z
LAST-MODIFIED:20260318T093435Z
UID:20856-1775228400-1775228400@augsburger-domsingknaben.de
SUMMARY:Johannespassion und Passionsmotetten
DESCRIPTION:Karfreitagsliturgie \nDomchor\, Kammerchor  \nClaudio Monteverdi (1567 – 16 43)\nOrlando di Lasso (1532 – 1594) u.a.
URL:https://augsburger-domsingknaben.de/veranstaltung/johannespassion-passionsmotetten
LOCATION:Hoher Dom zu Augsburg\, Frauentorstraße 1\, Augsburg\, Bayern\, 86152\, Deutschland
CATEGORIES:Gottesdienst
ATTACH;FMTTYPE=image/jpeg:https://augsburger-domsingknaben.de/wp-content/uploads/2026/01/SUM00831_16x9_bearb-scaled.jpg
END:VEVENT
END:VCALENDAR