BEGIN:VCALENDAR
VERSION:2.0
PRODID:-//Augsburger Domsingknaben - ECPv6.15.20//NONSGML v1.0//EN
CALSCALE:GREGORIAN
METHOD:PUBLISH
X-ORIGINAL-URL:https://augsburger-domsingknaben.de
X-WR-CALDESC:Veranstaltungen für Augsburger Domsingknaben
REFRESH-INTERVAL;VALUE=DURATION:PT1H
X-Robots-Tag:noindex
X-PUBLISHED-TTL:PT1H
BEGIN:VTIMEZONE
TZID:Europe/Berlin
BEGIN:DAYLIGHT
TZOFFSETFROM:+0100
TZOFFSETTO:+0200
TZNAME:CEST
DTSTART:20250330T010000
END:DAYLIGHT
BEGIN:STANDARD
TZOFFSETFROM:+0200
TZOFFSETTO:+0100
TZNAME:CET
DTSTART:20251026T010000
END:STANDARD
BEGIN:DAYLIGHT
TZOFFSETFROM:+0100
TZOFFSETTO:+0200
TZNAME:CEST
DTSTART:20260329T010000
END:DAYLIGHT
BEGIN:STANDARD
TZOFFSETFROM:+0200
TZOFFSETTO:+0100
TZNAME:CET
DTSTART:20261025T010000
END:STANDARD
BEGIN:DAYLIGHT
TZOFFSETFROM:+0100
TZOFFSETTO:+0200
TZNAME:CEST
DTSTART:20270328T010000
END:DAYLIGHT
BEGIN:STANDARD
TZOFFSETFROM:+0200
TZOFFSETTO:+0100
TZNAME:CET
DTSTART:20271031T010000
END:STANDARD
END:VTIMEZONE
BEGIN:VEVENT
DTSTART;TZID=Europe/Berlin:20260509T100000
DTEND;TZID=Europe/Berlin:20260509T100000
DTSTAMP:20260422T130801
CREATED:20260204T161959Z
LAST-MODIFIED:20260204T161959Z
UID:21131-1778320800-1778320800@augsburger-domsingknaben.de
SUMMARY:Tag der offenen Tür der Augsburger Dommusik
DESCRIPTION:Auftakt für Neuanmeldungen zum Chorjahr 2026/2027 \nVorsingen für junge Talente\, Einblick in die gebührenfreie chorische Ausbildung\,\nSchnuppereinheiten für die Musikalische Früherziehung ab zwei Jahren\, Vorstellung\ndes vollumfänglichen musikalischen wie pädagogischen Nachmittagsangebots für\nDomsingknaben und Kantoreimädchen.
URL:https://augsburger-domsingknaben.de/veranstaltung/tag-der-offenen-tuer-der-augsburger-dommusik
LOCATION:Ottmarsgäßchen\, Ottmarsgäßchen 8\, Augsburg\, 86152\, Germany
CATEGORIES:Tag der Offenen Tür
END:VEVENT
BEGIN:VEVENT
DTSTART;TZID=Europe/Berlin:20260509T180000
DTEND;TZID=Europe/Berlin:20260509T180000
DTSTAMP:20260422T130801
CREATED:20260116T134207Z
LAST-MODIFIED:20260318T095745Z
UID:20887-1778349600-1778349600@augsburger-domsingknaben.de
SUMMARY:Gregorianischer Choral und Orgelmusik
DESCRIPTION:Cantate Domino zum 6. Sonntag der Osterzeit – Vocem iucunditatis annunitate \nSchola des Karl-Kraft-Chors \nEintritt frei – um Spenden zu Gunsten der Domsingknaben wird gebeten
URL:https://augsburger-domsingknaben.de/veranstaltung/gregorianischer-choral-und-orgelmusik-15
LOCATION:Hoher Dom zu Augsburg\, Frauentorstraße 1\, Augsburg\, Bayern\, 86152\, Deutschland
CATEGORIES:Cantate Domino
ATTACH;FMTTYPE=image/jpeg:https://augsburger-domsingknaben.de/wp-content/uploads/2026/01/VMW9826_16x9_bearb-scaled.jpg
END:VEVENT
END:VCALENDAR